BEGIN:VCALENDAR
VERSION:2.0
PRODID:-//Ontario College of Family Physicians - ECPv6.15.20//NONSGML v1.0//EN
CALSCALE:GREGORIAN
METHOD:PUBLISH
X-ORIGINAL-URL:https://ontariofamilyphysicians.ca
X-WR-CALDESC:Events for Ontario College of Family Physicians
REFRESH-INTERVAL;VALUE=DURATION:PT1H
X-Robots-Tag:noindex
X-PUBLISHED-TTL:PT1H
BEGIN:VTIMEZONE
TZID:America/Toronto
BEGIN:DAYLIGHT
TZOFFSETFROM:-0500
TZOFFSETTO:-0400
TZNAME:EDT
DTSTART:20240310T070000
END:DAYLIGHT
BEGIN:STANDARD
TZOFFSETFROM:-0400
TZOFFSETTO:-0500
TZNAME:EST
DTSTART:20241103T060000
END:STANDARD
BEGIN:DAYLIGHT
TZOFFSETFROM:-0500
TZOFFSETTO:-0400
TZNAME:EDT
DTSTART:20250309T070000
END:DAYLIGHT
BEGIN:STANDARD
TZOFFSETFROM:-0400
TZOFFSETTO:-0500
TZNAME:EST
DTSTART:20251102T060000
END:STANDARD
BEGIN:DAYLIGHT
TZOFFSETFROM:-0500
TZOFFSETTO:-0400
TZNAME:EDT
DTSTART:20260308T070000
END:DAYLIGHT
BEGIN:STANDARD
TZOFFSETFROM:-0400
TZOFFSETTO:-0500
TZNAME:EST
DTSTART:20261101T060000
END:STANDARD
END:VTIMEZONE
BEGIN:VEVENT
DTSTART;TZID=America/Toronto:20250404T080000
DTEND;TZID=America/Toronto:20250404T090000
DTSTAMP:20260422T061032
CREATED:20250320T193447Z
LAST-MODIFIED:20250721T131637Z
UID:10000128-1743753600-1743757200@ontariofamilyphysicians.ca
SUMMARY:Infectious Disease\, Penicillin Allergy (De)labelling & Newcomer Care Resources
DESCRIPTION:Please join us for the 89th in our series “Changing the Way We Work” on Friday April 4\, 2025. In this session\, we will provide an overview on circulating infectious diseases. We will also explore an approach to penicillin allergy (de)labelling and best practices in newcomer care\, including appropriate screening and efficient billing. The main program will be held from 7:55-9 a.m.\, with a potential extension until 9:15 a.m. for additional Q&A. We appreciate you submitting questions at registration to help us plan the session. \n\n\n\nPanelists:            \n\n\n\n\nDr. Daniel Warshafsky\, Associate Chief Medical Officer of Health at the Office of the Chief Medical Officer of Health\, Toronto\, ON\n\n\n\nDr. Mariam Hanna\, Pediatric Allergy\, Asthma\, and Immunology Specialist\, Halton Pediatric Allergy Clinic\, Burlington\, ON\n\n\n\nDr. Vanessa Redditt\, Family Physician\, Crossroads Clinic\, Women’s College Hospital\, Toronto\, ON\n\n\n\n\nHost:  \n\n\n\n\nDr. Jobin Varughese\, OCFP President\, Family Physician\, Interim Assistant Dean of Primary Care Education for the School of Medicine at Toronto Metropolitan University (TMU)\, Brampton\, ON \n\n\n\n\nModerator:  \n\n\n\n\nDr. Eleanor Colledge\, CPD Program Director\, University of Toronto and Family Physician\, South East Toronto Family Health Team\, Toronto\, ON\n\n\n\n\nView Past Sessions and Materialshttps://dfcm.utoronto.ca/changing-way-we-work-community-practice \n\n\n\nThe Changing the Way We Work (COVID-19) Community of Practice for Ontario Family Physicians is co-organized by the Quality and Innovation Program\, Department of Family and Community Medicine\, University of Toronto\, and the Ontario College of Family Physicians.  \n\n\n\nThis one-credit-per-hour Group Learning program has been certified by the College of Family Physicians of Canada and the Ontario Chapter for up to 32.00 Mainpro+ credits
URL:https://ontariofamilyphysicians.ca/event/idpenicillinnewcomers/
END:VEVENT
END:VCALENDAR